BEGIN:VCALENDAR
VERSION:2.0
PRODID:-//Butter and Egg Adventures,  Troy Alabama - ECPv6.15.20//NONSGML v1.0//EN
CALSCALE:GREGORIAN
METHOD:PUBLISH
X-ORIGINAL-URL:https://butterandeggadventures.com
X-WR-CALDESC:Events for Butter and Egg Adventures,  Troy Alabama
REFRESH-INTERVAL;VALUE=DURATION:PT1H
X-Robots-Tag:noindex
X-PUBLISHED-TTL:PT1H
BEGIN:VTIMEZONE
TZID:America/Chicago
BEGIN:DAYLIGHT
TZOFFSETFROM:-0600
TZOFFSETTO:-0500
TZNAME:CDT
DTSTART:20240310T080000
END:DAYLIGHT
BEGIN:STANDARD
TZOFFSETFROM:-0500
TZOFFSETTO:-0600
TZNAME:CST
DTSTART:20241103T070000
END:STANDARD
BEGIN:DAYLIGHT
TZOFFSETFROM:-0600
TZOFFSETTO:-0500
TZNAME:CDT
DTSTART:20250309T080000
END:DAYLIGHT
BEGIN:STANDARD
TZOFFSETFROM:-0500
TZOFFSETTO:-0600
TZNAME:CST
DTSTART:20251102T070000
END:STANDARD
BEGIN:DAYLIGHT
TZOFFSETFROM:-0600
TZOFFSETTO:-0500
TZNAME:CDT
DTSTART:20260308T080000
END:DAYLIGHT
BEGIN:STANDARD
TZOFFSETFROM:-0500
TZOFFSETTO:-0600
TZNAME:CST
DTSTART:20261101T070000
END:STANDARD
END:VTIMEZONE
BEGIN:VEVENT
DTSTART;TZID=America/Chicago:20250502T080000
DTEND;TZID=America/Chicago:20250502T140000
DTSTAMP:20260420T055551
CREATED:20250128T113000Z
LAST-MODIFIED:20250212T121048Z
UID:10007575-1746172800-1746194400@butterandeggadventures.com
SUMMARY:Ariton School 2nd Grade
DESCRIPTION:
URL:https://butterandeggadventures.com/event/ariton-school-2nd-grade/
LOCATION:Retreat Center at Butter and Egg Adventures\, 2127 Butter and Egg Rd\, Troy\, AL\, 36081\, United States
CATEGORIES:School Events
END:VEVENT
BEGIN:VEVENT
DTSTART;TZID=America/Chicago:20250502T093000
DTEND;TZID=America/Chicago:20250502T140000
DTSTAMP:20260420T055551
CREATED:20240920T104307Z
LAST-MODIFIED:20250314T205342Z
UID:10007500-1746178200-1746194400@butterandeggadventures.com
SUMMARY:Prattville Elementary School (Shirah and Wilson)
DESCRIPTION:
URL:https://butterandeggadventures.com/event/prattville-elementary-school-shirah-wilson-kissinger-and-golson/
LOCATION:Retreat Center at Butter and Egg Adventures\, 2127 Butter and Egg Rd\, Troy\, AL\, 36081\, United States
CATEGORIES:School Events
END:VEVENT
END:VCALENDAR