BEGIN:VCALENDAR
VERSION:2.0
PRODID:-//Butter and Egg Adventures,  Troy Alabama - ECPv6.15.20//NONSGML v1.0//EN
CALSCALE:GREGORIAN
METHOD:PUBLISH
X-ORIGINAL-URL:https://butterandeggadventures.com
X-WR-CALDESC:Events for Butter and Egg Adventures,  Troy Alabama
REFRESH-INTERVAL;VALUE=DURATION:PT1H
X-Robots-Tag:noindex
X-PUBLISHED-TTL:PT1H
BEGIN:VTIMEZONE
TZID:America/Chicago
BEGIN:DAYLIGHT
TZOFFSETFROM:-0600
TZOFFSETTO:-0500
TZNAME:CDT
DTSTART:20250309T080000
END:DAYLIGHT
BEGIN:STANDARD
TZOFFSETFROM:-0500
TZOFFSETTO:-0600
TZNAME:CST
DTSTART:20251102T070000
END:STANDARD
BEGIN:DAYLIGHT
TZOFFSETFROM:-0600
TZOFFSETTO:-0500
TZNAME:CDT
DTSTART:20260308T080000
END:DAYLIGHT
BEGIN:STANDARD
TZOFFSETFROM:-0500
TZOFFSETTO:-0600
TZNAME:CST
DTSTART:20261101T070000
END:STANDARD
BEGIN:DAYLIGHT
TZOFFSETFROM:-0600
TZOFFSETTO:-0500
TZNAME:CDT
DTSTART:20270314T080000
END:DAYLIGHT
BEGIN:STANDARD
TZOFFSETFROM:-0500
TZOFFSETTO:-0600
TZNAME:CST
DTSTART:20271107T070000
END:STANDARD
END:VTIMEZONE
BEGIN:VEVENT
DTSTART;TZID=America/Chicago:20260513T090000
DTEND;TZID=America/Chicago:20260513T133000
DTSTAMP:20260422T145745
CREATED:20260413T131249Z
LAST-MODIFIED:20260413T131249Z
UID:10007868-1778662800-1778679000@butterandeggadventures.com
SUMMARY:Dauphin Jr. High School
DESCRIPTION:
URL:https://butterandeggadventures.com/event/dauphin-jr-high-school-3/
LOCATION:Retreat Center at Butter and Egg Adventures\, 2127 Butter and Egg Rd\, Troy\, AL\, 36081\, United States
CATEGORIES:School Events
END:VEVENT
BEGIN:VEVENT
DTSTART;TZID=America/Chicago:20260514T080000
DTEND;TZID=America/Chicago:20260514T140000
DTSTAMP:20260422T145745
CREATED:20260309T173122Z
LAST-MODIFIED:20260309T173122Z
UID:10007836-1778745600-1778767200@butterandeggadventures.com
SUMMARY:Troy Elementary School 6th Grade
DESCRIPTION:
URL:https://butterandeggadventures.com/event/troy-elementary-school-6th-grade-4/
LOCATION:Retreat Center at Butter and Egg Adventures\, 2127 Butter and Egg Rd\, Troy\, AL\, 36081\, United States
CATEGORIES:School Events
END:VEVENT
BEGIN:VEVENT
DTSTART;TZID=America/Chicago:20260515T083000
DTEND;TZID=America/Chicago:20260515T130000
DTSTAMP:20260422T145745
CREATED:20250906T154932Z
LAST-MODIFIED:20250906T154932Z
UID:10007730-1778833800-1778850000@butterandeggadventures.com
SUMMARY:Pike Liberal Arts School 2nd Grade
DESCRIPTION:
URL:https://butterandeggadventures.com/event/pike-liberal-arts-school-2nd-grade-3/
LOCATION:Retreat Center at Butter and Egg Adventures\, 2127 Butter and Egg Rd\, Troy\, AL\, 36081\, United States
CATEGORIES:School Events
END:VEVENT
BEGIN:VEVENT
DTSTART;TZID=America/Chicago:20260515T093000
DTEND;TZID=America/Chicago:20260515T133000
DTSTAMP:20260422T145745
CREATED:20260325T205354Z
LAST-MODIFIED:20260325T205354Z
UID:10007854-1778837400-1778851800@butterandeggadventures.com
SUMMARY:Wicksburg Elementary School 2nd Grade
DESCRIPTION:
URL:https://butterandeggadventures.com/event/wicksburg-elementary-school-2nd-grade-2/
LOCATION:Retreat Center at Butter and Egg Adventures\, 2127 Butter and Egg Rd\, Troy\, AL\, 36081\, United States
CATEGORIES:School Events
END:VEVENT
BEGIN:VEVENT
DTSTART;TZID=America/Chicago:20260518T093000
DTEND;TZID=America/Chicago:20260518T133000
DTSTAMP:20260422T145745
CREATED:20251114T141433Z
LAST-MODIFIED:20260210T172200Z
UID:10007770-1779096600-1779111000@butterandeggadventures.com
SUMMARY:Johnson Elementary School 5th Grade
DESCRIPTION:
URL:https://butterandeggadventures.com/event/johnson-elementary-school-5th-grade/
LOCATION:Retreat Center at Butter and Egg Adventures\, 2127 Butter and Egg Rd\, Troy\, AL\, 36081\, United States
CATEGORIES:School Events
END:VEVENT
BEGIN:VEVENT
DTSTART;TZID=America/Chicago:20260519T093000
DTEND;TZID=America/Chicago:20260519T133000
DTSTAMP:20260422T145745
CREATED:20260415T185626Z
LAST-MODIFIED:20260415T185626Z
UID:10007872-1779183000-1779197400@butterandeggadventures.com
SUMMARY:Slocomb Middle School
DESCRIPTION:
URL:https://butterandeggadventures.com/event/slocomb-middle-school-2/
LOCATION:Retreat Center at Butter and Egg Adventures\, 2127 Butter and Egg Rd\, Troy\, AL\, 36081\, United States
CATEGORIES:School Events
END:VEVENT
BEGIN:VEVENT
DTSTART;TZID=America/Chicago:20260520T093000
DTEND;TZID=America/Chicago:20260520T133000
DTSTAMP:20260422T145745
CREATED:20260123T193226Z
LAST-MODIFIED:20260123T194047Z
UID:10007792-1779269400-1779283800@butterandeggadventures.com
SUMMARY:Ridgecrest Christian Academy
DESCRIPTION:
URL:https://butterandeggadventures.com/event/ridgecrest-christian-academy-2/
LOCATION:Retreat Center at Butter and Egg Adventures\, 2127 Butter and Egg Rd\, Troy\, AL\, 36081\, United States
CATEGORIES:School Events
END:VEVENT
BEGIN:VEVENT
DTSTART;TZID=America/Chicago:20260730T130000
DTEND;TZID=America/Chicago:20260731T113000
DTSTAMP:20260422T145745
CREATED:20260319T195922Z
LAST-MODIFIED:20260319T195922Z
UID:10007849-1785416400-1785497400@butterandeggadventures.com
SUMMARY:Eastwood Christian School Cross Country
DESCRIPTION:
URL:https://butterandeggadventures.com/event/eastwood-christian-school-cross-country-2/
LOCATION:Retreat Center at Butter and Egg Adventures\, 2127 Butter and Egg Rd\, Troy\, AL\, 36081\, United States
CATEGORIES:School Events
END:VEVENT
END:VCALENDAR