BEGIN:VCALENDAR
VERSION:2.0
PRODID:-//Butter and Egg Adventures,  Troy Alabama - ECPv6.15.20//NONSGML v1.0//EN
CALSCALE:GREGORIAN
METHOD:PUBLISH
X-ORIGINAL-URL:https://butterandeggadventures.com
X-WR-CALDESC:Events for Butter and Egg Adventures,  Troy Alabama
REFRESH-INTERVAL;VALUE=DURATION:PT1H
X-Robots-Tag:noindex
X-PUBLISHED-TTL:PT1H
BEGIN:VTIMEZONE
TZID:America/Chicago
BEGIN:DAYLIGHT
TZOFFSETFROM:-0600
TZOFFSETTO:-0500
TZNAME:CDT
DTSTART:20240310T080000
END:DAYLIGHT
BEGIN:STANDARD
TZOFFSETFROM:-0500
TZOFFSETTO:-0600
TZNAME:CST
DTSTART:20241103T070000
END:STANDARD
BEGIN:DAYLIGHT
TZOFFSETFROM:-0600
TZOFFSETTO:-0500
TZNAME:CDT
DTSTART:20250309T080000
END:DAYLIGHT
BEGIN:STANDARD
TZOFFSETFROM:-0500
TZOFFSETTO:-0600
TZNAME:CST
DTSTART:20251102T070000
END:STANDARD
BEGIN:DAYLIGHT
TZOFFSETFROM:-0600
TZOFFSETTO:-0500
TZNAME:CDT
DTSTART:20260308T080000
END:DAYLIGHT
BEGIN:STANDARD
TZOFFSETFROM:-0500
TZOFFSETTO:-0600
TZNAME:CST
DTSTART:20261101T070000
END:STANDARD
BEGIN:DAYLIGHT
TZOFFSETFROM:-0600
TZOFFSETTO:-0500
TZNAME:CDT
DTSTART:20270314T080000
END:DAYLIGHT
BEGIN:STANDARD
TZOFFSETFROM:-0500
TZOFFSETTO:-0600
TZNAME:CST
DTSTART:20271107T070000
END:STANDARD
END:VTIMEZONE
BEGIN:VEVENT
DTSTART;TZID=America/Chicago:20260418T113000
DTEND;TZID=America/Chicago:20260419T110000
DTSTAMP:20260422T105637
CREATED:20260129T150827Z
LAST-MODIFIED:20260129T150827Z
UID:10007801-1776511800-1776596400@butterandeggadventures.com
SUMMARY:Girl Scout Troop 28212
DESCRIPTION:
URL:https://butterandeggadventures.com/event/girl-scout-troop-28212-2/
LOCATION:Retreat Center at Butter and Egg Adventures\, 2127 Butter and Egg Rd\, Troy\, AL\, 36081\, United States
CATEGORIES:Scout Group
END:VEVENT
BEGIN:VEVENT
DTSTART;TZID=America/Chicago:20260410T190000
DTEND;TZID=America/Chicago:20260412T100000
DTSTAMP:20260422T105637
CREATED:20260221T153209Z
LAST-MODIFIED:20260221T153902Z
UID:10007826-1775847600-1775988000@butterandeggadventures.com
SUMMARY:Boy Scout Troop 367
DESCRIPTION:
URL:https://butterandeggadventures.com/event/boy-scout-troop-367/
LOCATION:Retreat Center at Butter and Egg Adventures\, 2127 Butter and Egg Rd\, Troy\, AL\, 36081\, United States
CATEGORIES:Scout Group
END:VEVENT
BEGIN:VEVENT
DTSTART;TZID=America/Chicago:20260327T180000
DTEND;TZID=America/Chicago:20260329T110000
DTSTAMP:20260422T105637
CREATED:20251029T145317Z
LAST-MODIFIED:20251029T145317Z
UID:10007764-1774634400-1774782000@butterandeggadventures.com
SUMMARY:Girl Scout Troop 8520
DESCRIPTION:
URL:https://butterandeggadventures.com/event/girl-scout-troop-8520/
LOCATION:Retreat Center at Butter and Egg Adventures\, 2127 Butter and Egg Rd\, Troy\, AL\, 36081\, United States
CATEGORIES:Scout Group
END:VEVENT
BEGIN:VEVENT
DTSTART;TZID=America/Chicago:20250920T093000
DTEND;TZID=America/Chicago:20250921T103000
DTSTAMP:20260422T105637
CREATED:20250912T235153Z
LAST-MODIFIED:20250912T235153Z
UID:10007746-1758360600-1758450600@butterandeggadventures.com
SUMMARY:Trail Life Troop AL 12-40
DESCRIPTION:
URL:https://butterandeggadventures.com/event/trail-life-troop-al-12-40/
LOCATION:Retreat Center at Butter and Egg Adventures\, 2127 Butter and Egg Rd\, Troy\, AL\, 36081\, United States
CATEGORIES:Scout Group
END:VEVENT
BEGIN:VEVENT
DTSTART;TZID=America/Chicago:20250530T080000
DTEND;TZID=America/Chicago:20250531T170000
DTSTAMP:20260422T105637
CREATED:20250528T153446Z
LAST-MODIFIED:20250528T154122Z
UID:10007663-1748592000-1748710800@butterandeggadventures.com
SUMMARY:Pack 41 Troy
DESCRIPTION:
URL:https://butterandeggadventures.com/event/pack-41-troy/
LOCATION:AL
CATEGORIES:Scout Group
END:VEVENT
BEGIN:VEVENT
DTSTART;TZID=America/Chicago:20250425T170000
DTEND;TZID=America/Chicago:20250427T110000
DTSTAMP:20260422T105637
CREATED:20250407T174605Z
LAST-MODIFIED:20250527T123715Z
UID:10007624-1745600400-1745751600@butterandeggadventures.com
SUMMARY:Troop 19G
DESCRIPTION:
URL:https://butterandeggadventures.com/event/troop-19g/
LOCATION:AL
CATEGORIES:Scout Group
END:VEVENT
BEGIN:VEVENT
DTSTART;TZID=America/Chicago:20250222T163000
DTEND;TZID=America/Chicago:20250223T163000
DTSTAMP:20260422T105637
CREATED:20241203T111734Z
LAST-MODIFIED:20250226T142055Z
UID:10007545-1740241800-1740328200@butterandeggadventures.com
SUMMARY:Pack 3071 Campout
DESCRIPTION:
URL:https://butterandeggadventures.com/event/pack-3071-campout/
LOCATION:Retreat Center at Butter and Egg Adventures\, 2127 Butter and Egg Rd\, Troy\, AL\, 36081\, United States
CATEGORIES:Scout Group
END:VEVENT
END:VCALENDAR